BEGIN:VCALENDAR
VERSION:2.0
PRODID:-//pretix//12-S_pretix_installation//
BEGIN:VTIMEZONE
TZID:Europe/Berlin
BEGIN:STANDARD
DTSTART:20001029T040000
RRULE:FREQ=YEARLY;BYDAY=-1SU;BYMONTH=10
TZNAME:CET
TZOFFSETFROM:+0200
TZOFFSETTO:+0100
END:STANDARD
BEGIN:DAYLIGHT
DTSTART:20000326T030000
RRULE:FREQ=YEARLY;BYDAY=-1SU;BYMONTH=3
TZNAME:CEST
TZOFFSETFROM:+0100
TZOFFSETTO:+0200
END:DAYLIGHT
END:VTIMEZONE
BEGIN:VEVENT
UID:pretix-turm-tsh-0@tickets.turm.club
DTSTART;TZID=Europe/Berlin:20220602T220000
DTEND;TZID=Europe/Berlin:20220602T230000
DESCRIPTION:Tickets: https://tickets.turm.club/tsh/\nVeranstalter: Turm Hal
 le
DTSTAMP:20260419T171241Z
LOCATION:Studierendenclub Turm Halle\, Friedemann-Bach-Platz 05\, 06108 Hal
 le
SUMMARY:Turnbeutel statt Handtasche
END:VEVENT
END:VCALENDAR
