BEGIN:VCALENDAR
VERSION:2.0
PRODID:-//pretix//12-S_pretix_installation//
BEGIN:VTIMEZONE
TZID:Europe/Berlin
BEGIN:STANDARD
DTSTART:20001029T040000
RRULE:FREQ=YEARLY;BYDAY=-1SU;BYMONTH=10
TZNAME:CET
TZOFFSETFROM:+0200
TZOFFSETTO:+0100
END:STANDARD
BEGIN:DAYLIGHT
DTSTART:20000326T030000
RRULE:FREQ=YEARLY;BYDAY=-1SU;BYMONTH=3
TZNAME:CEST
TZOFFSETFROM:+0100
TZOFFSETTO:+0200
END:DAYLIGHT
END:VTIMEZONE
BEGIN:VEVENT
UID:pretix-turm-pw-2-0@tickets.turm.club
DTSTART;TZID=Europe/Berlin:20220514T180000
DTEND;TZID=Europe/Berlin:20220514T233000
DESCRIPTION:Tickets: https://tickets.turm.club/pw-2/\nVeranstalter: Turm Ha
 lle
DTSTAMP:20260423T051953Z
LOCATION:Turm Halle\,\, Friedemann-Bach-Platz 05\, 06108 Halle (Saale)
SUMMARY:Ratifo & Yung FSK 18
END:VEVENT
END:VCALENDAR
